BEGIN:VCALENDAR
VERSION:2.0
PRODID:-//Tri Bridges - ECPv6.15.20//NONSGML v1.0//EN
CALSCALE:GREGORIAN
METHOD:PUBLISH
X-ORIGINAL-URL:https://tribridgeschessclub.com
X-WR-CALDESC:Events for Tri Bridges
REFRESH-INTERVAL;VALUE=DURATION:PT1H
X-Robots-Tag:noindex
X-PUBLISHED-TTL:PT1H
BEGIN:VTIMEZONE
TZID:UTC
BEGIN:STANDARD
TZOFFSETFROM:+0000
TZOFFSETTO:+0000
TZNAME:UTC
DTSTART:20250101T000000
END:STANDARD
END:VTIMEZONE
BEGIN:VEVENT
DTSTART;TZID=UTC:20260111T190000
DTEND;TZID=UTC:20260111T203000
DTSTAMP:20260419T201004
CREATED:20260107T001159Z
LAST-MODIFIED:20260111T131605Z
UID:7348-1768158000-1768163400@tribridgeschessclub.com
SUMMARY:Online Quick Event #1
DESCRIPTION:This is our first online quick tournament. The time control is 8 d3. The tournament is on CHESS.COM\, so make sure you are a member of Tri-Bridges Chess Club on that site. The event should go by very quickly and anyone can join from the comfort of their home!
URL:https://tribridgeschessclub.com/event/online-quick-event-1/
LOCATION:chess.com
CATEGORIES:Event,Tournaments
ATTACH;FMTTYPE=image/jpeg:https://tribridgeschessclub.com/wp-content/uploads/2026/01/20251231_161131-scaled.jpg
ORGANIZER;CN="Tri-Bridges Chess Club":MAILTO:joshuamiltonanderson@gmail.com
END:VEVENT
BEGIN:VEVENT
DTSTART;TZID=UTC:20260123T190000
DTEND;TZID=UTC:20260123T220000
DTSTAMP:20260419T201004
CREATED:20251106T080053Z
LAST-MODIFIED:20251106T080053Z
UID:7232-1769194800-1769205600@tribridgeschessclub.com
SUMMARY:ECE #115 - Friday Night Tournament
DESCRIPTION:Sections: Open\, U800\, U500\, U200 \nTime Control: G25 d5; 3 rounds \nPrizes: At least 3 trophies per section in the bottom 3 sections; $50 1st prize in Open \nRounds: 1st at 7\, rest ASAP; bottom two sections done around 9\, all sections done by 10
URL:https://tribridgeschessclub.com/event/ece-115-friday-night-tournament/
LOCATION:Tri – Bridges Chess Club\, 666 Exton Commons\, Exton\, PA\, 19341\, United States
CATEGORIES:Event,Tournaments
ATTACH;FMTTYPE=image/jpeg:https://tribridgeschessclub.com/wp-content/uploads/2025/08/IMG-20250811-WA0014-scaled.jpg
ORGANIZER;CN="Tri-Bridges Chess Club":MAILTO:joshuamiltonanderson@gmail.com
END:VEVENT
BEGIN:VEVENT
DTSTART;TZID=UTC:20260124T100000
DTEND;TZID=UTC:20260124T180000
DTSTAMP:20260419T201004
CREATED:20251106T082604Z
LAST-MODIFIED:20260122T173725Z
UID:7234-1769248800-1769277600@tribridgeschessclub.com
SUMMARY:ECE #116 – $250 Sunday Game Hour (move to Saturday due to snow!)
DESCRIPTION:NOTE:  This event is being moved up a day due to snow! \nSections: Open\, U1400\, U700 \nTime: Open & U1400 are G60/d5; U700 is G25/d5 – 4 rounds \nPrizes: \nTrophies to Top 3\, possibly more in U700\, Rounds at 10\, 11\, 12\, and 1. \n$100 for 1st in Open\, $50 for 2nd in Open \n$75 for 1st in U1400\, $25 for 2nd in U1400 \nRounds at 10\, 12\, 2\, and 4 \n 
URL:https://tribridgeschessclub.com/event/ece-116-250-sunday-game-hour/
LOCATION:Tri – Bridges Chess Club\, 666 Exton Commons\, Exton\, PA\, 19341\, United States
CATEGORIES:Event,Tournaments
ATTACH;FMTTYPE=image/jpeg:https://tribridgeschessclub.com/wp-content/uploads/2025/09/20250906_121351-scaled.jpg
ORGANIZER;CN="Tri-Bridges Chess Club":MAILTO:joshuamiltonanderson@gmail.com
END:VEVENT
BEGIN:VEVENT
DTSTART;TZID=UTC:20260128T190000
DTEND;TZID=UTC:20260128T210000
DTSTAMP:20260419T201004
CREATED:20260106T154352Z
LAST-MODIFIED:20260106T161814Z
UID:7324-1769626800-1769634000@tribridgeschessclub.com
SUMMARY:Wild Wednesday Blitz Event
DESCRIPTION:Stop in for our once a month Wednesday blitz tournament.  This event will be at 7 pm.  Players and sections will be determined based on entries.  Generally there are 2 sections and the blitz is double games (you play each opponent twice.)  The event usually takes less than 2 hours and has a few trophy prizes.  This will alternate every 2 weeks with a quick tournament with the same set up.  The blitz event is 3 d2.  The time for the quick event is 8 d3 (See January 14 and February 11)\, to help everyone get ready for the state quick championship (3/6) the Friday night before the main state scholastic championship (March 7-8).
URL:https://tribridgeschessclub.com/event/wild-wednesday-blitz-event/
LOCATION:Tri – Bridges Chess Club\, 666 Exton Commons\, Exton\, PA\, 19341\, United States
CATEGORIES:Event,Tournaments
ATTACH;FMTTYPE=image/jpeg:https://tribridgeschessclub.com/wp-content/uploads/2025/09/IMG-20250906-WA0027.jpg
ORGANIZER;CN="Tri-Bridges Chess Club":MAILTO:joshuamiltonanderson@gmail.com
END:VEVENT
END:VCALENDAR