BEGIN:VCALENDAR
VERSION:2.0
PRODID:-//Tri Bridges - ECPv6.15.20//NONSGML v1.0//EN
CALSCALE:GREGORIAN
METHOD:PUBLISH
X-WR-CALNAME:Tri Bridges
X-ORIGINAL-URL:https://tribridgeschessclub.com
X-WR-CALDESC:Events for Tri Bridges
REFRESH-INTERVAL;VALUE=DURATION:PT1H
X-Robots-Tag:noindex
X-PUBLISHED-TTL:PT1H
BEGIN:VTIMEZONE
TZID:America/Halifax
BEGIN:DAYLIGHT
TZOFFSETFROM:-0400
TZOFFSETTO:-0300
TZNAME:ADT
DTSTART:20250309T060000
END:DAYLIGHT
BEGIN:STANDARD
TZOFFSETFROM:-0300
TZOFFSETTO:-0400
TZNAME:AST
DTSTART:20251102T050000
END:STANDARD
BEGIN:DAYLIGHT
TZOFFSETFROM:-0400
TZOFFSETTO:-0300
TZNAME:ADT
DTSTART:20260308T060000
END:DAYLIGHT
BEGIN:STANDARD
TZOFFSETFROM:-0300
TZOFFSETTO:-0400
TZNAME:AST
DTSTART:20261101T050000
END:STANDARD
BEGIN:DAYLIGHT
TZOFFSETFROM:-0400
TZOFFSETTO:-0300
TZNAME:ADT
DTSTART:20270314T060000
END:DAYLIGHT
BEGIN:STANDARD
TZOFFSETFROM:-0300
TZOFFSETTO:-0400
TZNAME:AST
DTSTART:20271107T050000
END:STANDARD
END:VTIMEZONE
BEGIN:VTIMEZONE
TZID:UTC
BEGIN:STANDARD
TZOFFSETFROM:+0000
TZOFFSETTO:+0000
TZNAME:UTC
DTSTART:20250101T000000
END:STANDARD
END:VTIMEZONE
BEGIN:VEVENT
DTSTART;TZID=America/Halifax:20260316T190000
DTEND;TZID=America/Halifax:20260504T200000
DTSTAMP:20260421T115817
CREATED:20250321T050554Z
LAST-MODIFIED:20260402T001223Z
UID:5630-1773687600-1777924800@tribridgeschessclub.com
SUMMARY:Piece Play - Weekly Class - Monday 7PM to 8PM - 3/16 to 5/4
DESCRIPTION:Piece Play: This is the class that in 2024 everyone who took won trophies at the state championship. Now obviously\, we don’t guarantee such success\, especially with the state tournament not until March\, but this class is an introduction to positional concepts such as outposts\, open files\, and weak squares. \nRam Singh is the teacher and the classes will be held at Tri-Bridges Chess Club – 666 Exton Commons\, Exton PA 19341. \nThe class is 8 weeks and $80. The class starts y all start the week of 3/16 and will end the week of 5/4. \n 
URL:https://tribridgeschessclub.com/event/piece-play/
LOCATION:Tri – Bridges Chess Club\, 666 Exton Commons\, Exton\, PA\, 19341\, United States
CATEGORIES:Class,Event
ATTACH;FMTTYPE=:
ORGANIZER;CN="Tri-Bridges Chess Club":MAILTO:joshuamiltonanderson@gmail.com
END:VEVENT
BEGIN:VEVENT
DTSTART;TZID=UTC:20260319T180000
DTEND;TZID=UTC:20260507T190000
DTSTAMP:20260421T115817
CREATED:20250321T045832Z
LAST-MODIFIED:20260402T001705Z
UID:6082-1773943200-1778180400@tribridgeschessclub.com
SUMMARY:Basic Tactics - Weekly Class - Thursday 6PM to 7PM - 03/19 - 05/07
DESCRIPTION:Second Chess Class: This class is for those who know how to move the pieces\, know how to castle\, but lose most of their games. The course will mostly focus on tactics – i.e. forks\, pins skewers\, discovered check\, double check\, and the like. \nRam Singh is the teacher and the classes will be held at Tri-Bridges Chess Club – 666 Exton Commons\, Exton PA 19341. \nAll classes are 8 weeks and $80. They all start the week of 3/16 and will end the week of 5/5. \nIt is helpful for our planning and bookkeeping to sign up for the first class\, but you do not need to sign up for each and everyone.
URL:https://tribridgeschessclub.com/event/basic-tactics-03-19-26-05-07-26/
LOCATION:Tri – Bridges Chess Club\, 666 Exton Commons\, Exton\, PA\, 19341\, United States
CATEGORIES:Class,Event
ORGANIZER;CN="Tri-Bridges Chess Club":MAILTO:joshuamiltonanderson@gmail.com
END:VEVENT
BEGIN:VEVENT
DTSTART;TZID=UTC:20260509T130000
DTEND;TZID=UTC:20260509T170000
DTSTAMP:20260421T115817
CREATED:20251107T064705Z
LAST-MODIFIED:20251107T064918Z
UID:7260-1778331600-1778346000@tribridgeschessclub.com
SUMMARY:ECE #127  - Saturday Tournament
DESCRIPTION:Sections: U1400\, U1000\, U600 \nSections: 1:00 – 5:00; Under 1400\, Under 1000\, Under 600 \nTime Control: Game / 25\, d5 \nPrizes:  Trophies to the top 3\, at least\, and a few other trophies \nRounds: 1st at 1\, rest as soon as possible
URL:https://tribridgeschessclub.com/event/ece-127-saturday-tournament/
LOCATION:Tri – Bridges Chess Club\, 666 Exton Commons\, Exton\, PA\, 19341\, United States
CATEGORIES:Event,Tournaments
ATTACH;FMTTYPE=image/jpeg:https://tribridgeschessclub.com/wp-content/uploads/2025/09/20250906_125303-scaled.jpg
ORGANIZER;CN="Tri-Bridges Chess Club":MAILTO:joshuamiltonanderson@gmail.com
END:VEVENT
BEGIN:VEVENT
DTSTART;TZID=UTC:20260515T193000
DTEND;TZID=UTC:20260515T213000
DTSTAMP:20260421T115817
CREATED:20260410T052939Z
LAST-MODIFIED:20260410T061052Z
UID:7948-1778873400-1778880600@tribridgeschessclub.com
SUMMARY:$500 Exton Open Blitz
DESCRIPTION:Celebrating the return of the Exton Open. \nPrizes: \nOpen – $200 – 1st\, $75 – 2nd\, $50 – U1800\, $25 – U1500 \nUnder 1250 – $80 – 1st\, $40 – 2nd\, $30 – U750 \nTime Control: G3\, d2 \nEntry Fee – $20 \n4 rounds\, 2 games against each opponent \nStarts at 7:30\, other rounds ASAP \n 
URL:https://tribridgeschessclub.com/event/500-exton-open-blitz/
LOCATION:Chester Hotel & Conference Center\, 815 N Pottstown Pike\, Building A\, Exton\, PA\, 19341\, United States
CATEGORIES:Event,Tournaments
ATTACH;FMTTYPE=image/jpeg:https://tribridgeschessclub.com/wp-content/uploads/2026/04/20250530_202826-scaled.jpg
ORGANIZER;CN="Tri-Bridges Chess Club":MAILTO:joshuamiltonanderson@gmail.com
END:VEVENT
BEGIN:VEVENT
DTSTART;TZID=UTC:20260529T190000
DTEND;TZID=UTC:20260529T220000
DTSTAMP:20260421T115817
CREATED:20251107T074415Z
LAST-MODIFIED:20251107T074451Z
UID:7266-1780081200-1780092000@tribridgeschessclub.com
SUMMARY:ECE #128 - Friday Night Tournament
DESCRIPTION:Sections: Open\, U900\, U600\, U300 \nTime Control: G25 d5; 3 rounds \nPrizes: At least 3 trophies per section in the bottom 3 sections; $50 1st prize in Open \nRounds: 1st at 7\, rest ASAP; bottom two sections done around 9\, all sections done by 10
URL:https://tribridgeschessclub.com/event/ece-128-friday-night-tournament/
LOCATION:Tri – Bridges Chess Club\, 666 Exton Commons\, Exton\, PA\, 19341\, United States
CATEGORIES:Event,Tournaments
ATTACH;FMTTYPE=image/jpeg:https://tribridgeschessclub.com/wp-content/uploads/2025/09/IMG-20250906-WA0012.jpg
ORGANIZER;CN="Tri-Bridges Chess Club":MAILTO:joshuamiltonanderson@gmail.com
END:VEVENT
BEGIN:VEVENT
DTSTART;TZID=UTC:20260531T100000
DTEND;TZID=UTC:20260531T180000
DTSTAMP:20260421T115817
CREATED:20251107T080852Z
LAST-MODIFIED:20251107T080852Z
UID:7272-1780221600-1780250400@tribridgeschessclub.com
SUMMARY:ECE #129 – $250 Sunday Game Hour
DESCRIPTION:Time: Open & U1400 are G60/d5; U600 is G25/d5 – 4 rounds \nPrizes: \nTrophies to Top 3\, possibly more in U600\, Rounds at 10\, 11\, 12\, and 1. \n$100 for 1st in Open\, $50 for 2nd in Open \n$75 for 1st in U1200\, $25 for 2nd in U1200 \nRounds at 10\, 12\, 2\, and 4
URL:https://tribridgeschessclub.com/event/ece-126-250-sunday-game-hour-2/
LOCATION:Tri – Bridges Chess Club\, 666 Exton Commons\, Exton\, PA\, 19341\, United States
CATEGORIES:Event,Tournaments
ATTACH;FMTTYPE=image/jpeg:https://tribridgeschessclub.com/wp-content/uploads/2025/09/IMG-20250906-WA0009.jpg
ORGANIZER;CN="Tri-Bridges Chess Club":MAILTO:joshuamiltonanderson@gmail.com
END:VEVENT
END:VCALENDAR