BEGIN:VCALENDAR
VERSION:2.0
PRODID:-//Tri Bridges - ECPv6.15.20//NONSGML v1.0//EN
CALSCALE:GREGORIAN
METHOD:PUBLISH
X-WR-CALNAME:Tri Bridges
X-ORIGINAL-URL:https://tribridgeschessclub.com
X-WR-CALDESC:Events for Tri Bridges
REFRESH-INTERVAL;VALUE=DURATION:PT1H
X-Robots-Tag:noindex
X-PUBLISHED-TTL:PT1H
BEGIN:VTIMEZONE
TZID:UTC
BEGIN:STANDARD
TZOFFSETFROM:+0000
TZOFFSETTO:+0000
TZNAME:UTC
DTSTART:20250101T000000
END:STANDARD
END:VTIMEZONE
BEGIN:VEVENT
DTSTART;TZID=UTC:20260602T183000
DTEND;TZID=UTC:20260602T203000
DTSTAMP:20260419T175631
CREATED:20260402T003957Z
LAST-MODIFIED:20260402T004033Z
UID:7629-1780425000-1780432200@tribridgeschessclub.com
SUMMARY:Club
DESCRIPTION:The chess club meets from 6:30 to 8:30 PM.  This is unrated free play for all levels\, and anyone is welcome.  If you have any questions\, please call/text (484) 948 – 5692.
URL:https://tribridgeschessclub.com/event/club-24/
LOCATION:Tri – Bridges Chess Club\, 666 Exton Commons\, Exton\, PA\, 19341\, United States
CATEGORIES:Club,Event
ORGANIZER;CN="Tri-Bridges Chess Club":MAILTO:joshuamiltonanderson@gmail.com
END:VEVENT
BEGIN:VEVENT
DTSTART;TZID=UTC:20260609T183000
DTEND;TZID=UTC:20260609T203000
DTSTAMP:20260419T175631
CREATED:20260402T004121Z
LAST-MODIFIED:20260402T004121Z
UID:7631-1781029800-1781037000@tribridgeschessclub.com
SUMMARY:Club
DESCRIPTION:The chess club meets from 6:30 to 8:30 PM.  This is unrated free play for all levels\, and anyone is welcome.  If you have any questions\, please call/text (484) 948 – 5692.
URL:https://tribridgeschessclub.com/event/club-25/
LOCATION:Tri – Bridges Chess Club\, 666 Exton Commons\, Exton\, PA\, 19341\, United States
CATEGORIES:Club,Event
ORGANIZER;CN="Tri-Bridges Chess Club":MAILTO:joshuamiltonanderson@gmail.com
END:VEVENT
BEGIN:VEVENT
DTSTART;TZID=UTC:20260616T183000
DTEND;TZID=UTC:20260616T203000
DTSTAMP:20260419T175631
CREATED:20260402T004446Z
LAST-MODIFIED:20260402T004446Z
UID:7635-1781634600-1781641800@tribridgeschessclub.com
SUMMARY:Club
DESCRIPTION:The chess club meets from 6:30 to 8:30 PM.  This is unrated free play for all levels\, and anyone is welcome.  If you have any questions\, please call/text (484) 948 – 5692.
URL:https://tribridgeschessclub.com/event/club-27/
LOCATION:Tri – Bridges Chess Club\, 666 Exton Commons\, Exton\, PA\, 19341\, United States
CATEGORIES:Club,Event
ORGANIZER;CN="Tri-Bridges Chess Club":MAILTO:joshuamiltonanderson@gmail.com
END:VEVENT
BEGIN:VEVENT
DTSTART;TZID=UTC:20260623T183000
DTEND;TZID=UTC:20260623T203000
DTSTAMP:20260419T175631
CREATED:20260402T004224Z
LAST-MODIFIED:20260402T004224Z
UID:7633-1782239400-1782246600@tribridgeschessclub.com
SUMMARY:Club
DESCRIPTION:The chess club meets from 6:30 to 8:30 PM.  This is unrated free play for all levels\, and anyone is welcome.  If you have any questions\, please call/text (484) 948 – 5692.
URL:https://tribridgeschessclub.com/event/club-26/
LOCATION:Tri – Bridges Chess Club\, 666 Exton Commons\, Exton\, PA\, 19341\, United States
CATEGORIES:Club,Event
ORGANIZER;CN="Tri-Bridges Chess Club":MAILTO:joshuamiltonanderson@gmail.com
END:VEVENT
BEGIN:VEVENT
DTSTART;TZID=UTC:20260630T183000
DTEND;TZID=UTC:20260630T203000
DTSTAMP:20260419T175631
CREATED:20260402T004609Z
LAST-MODIFIED:20260402T004609Z
UID:7637-1782844200-1782851400@tribridgeschessclub.com
SUMMARY:Club
DESCRIPTION:The chess club meets from 6:30 to 8:30 PM.  This is unrated free play for all levels\, and anyone is welcome.  If you have any questions\, please call/text (484) 948 – 5692.
URL:https://tribridgeschessclub.com/event/club-28/
LOCATION:Tri – Bridges Chess Club\, 666 Exton Commons\, Exton\, PA\, 19341\, United States
CATEGORIES:Club,Event
ORGANIZER;CN="Tri-Bridges Chess Club":MAILTO:joshuamiltonanderson@gmail.com
END:VEVENT
END:VCALENDAR