BEGIN:VCALENDAR
VERSION:2.0
PRODID:-//Tri Bridges - ECPv6.15.20//NONSGML v1.0//EN
CALSCALE:GREGORIAN
METHOD:PUBLISH
X-WR-CALNAME:Tri Bridges
X-ORIGINAL-URL:https://tribridgeschessclub.com
X-WR-CALDESC:Events for Tri Bridges
REFRESH-INTERVAL;VALUE=DURATION:PT1H
X-Robots-Tag:noindex
X-PUBLISHED-TTL:PT1H
BEGIN:VTIMEZONE
TZID:UTC
BEGIN:STANDARD
TZOFFSETFROM:+0000
TZOFFSETTO:+0000
TZNAME:UTC
DTSTART:20250101T000000
END:STANDARD
END:VTIMEZONE
BEGIN:VEVENT
DTSTART;TZID=UTC:20260505T183000
DTEND;TZID=UTC:20260505T203000
DTSTAMP:20260419T161855
CREATED:20260402T003443Z
LAST-MODIFIED:20260402T010301Z
UID:7621-1778005800-1778013000@tribridgeschessclub.com
SUMMARY:Club
DESCRIPTION:The chess club meets from 6:30 to 8:30 PM.  This is unrated free play for all levels\, and anyone is welcome.  If you have any questions\, please call/text (484) 948 – 5692.
URL:https://tribridgeschessclub.com/event/club-20/
LOCATION:Tri – Bridges Chess Club\, 666 Exton Commons\, Exton\, PA\, 19341\, United States
CATEGORIES:Club,Event
ORGANIZER;CN="Tri-Bridges Chess Club":MAILTO:joshuamiltonanderson@gmail.com
END:VEVENT
BEGIN:VEVENT
DTSTART;TZID=UTC:20260512T183000
DTEND;TZID=UTC:20260512T203000
DTSTAMP:20260419T161855
CREATED:20260402T003546Z
LAST-MODIFIED:20260402T010230Z
UID:7623-1778610600-1778617800@tribridgeschessclub.com
SUMMARY:Club
DESCRIPTION:The chess club meets from 6:30 to 8:30 PM.  This is unrated free play for all levels\, and anyone is welcome.  If you have any questions\, please call/text (484) 948 – 5692.
URL:https://tribridgeschessclub.com/event/club-21/
LOCATION:Tri – Bridges Chess Club\, 666 Exton Commons\, Exton\, PA\, 19341\, United States
CATEGORIES:Club,Event
ORGANIZER;CN="Tri-Bridges Chess Club":MAILTO:joshuamiltonanderson@gmail.com
END:VEVENT
BEGIN:VEVENT
DTSTART;TZID=UTC:20260519T183000
DTEND;TZID=UTC:20260519T203000
DTSTAMP:20260419T161855
CREATED:20260402T003700Z
LAST-MODIFIED:20260402T003700Z
UID:7625-1779215400-1779222600@tribridgeschessclub.com
SUMMARY:Club
DESCRIPTION:The chess club meets from 6:30 to 8:30 PM.  This is unrated free play for all levels\, and anyone is welcome.  If you have any questions\, please call/text (484) 948 – 5692.
URL:https://tribridgeschessclub.com/event/club-22/
LOCATION:Tri – Bridges Chess Club\, 666 Exton Commons\, Exton\, PA\, 19341\, United States
CATEGORIES:Club,Event
ORGANIZER;CN="Tri-Bridges Chess Club":MAILTO:joshuamiltonanderson@gmail.com
END:VEVENT
BEGIN:VEVENT
DTSTART;TZID=UTC:20260526T183000
DTEND;TZID=UTC:20260526T203000
DTSTAMP:20260419T161855
CREATED:20260402T003822Z
LAST-MODIFIED:20260402T003822Z
UID:7627-1779820200-1779827400@tribridgeschessclub.com
SUMMARY:Club
DESCRIPTION:The chess club meets from 6:30 to 8:30 PM.  This is unrated free play for all levels\, and anyone is welcome.  If you have any questions\, please call/text (484) 948 – 5692.
URL:https://tribridgeschessclub.com/event/club-23/
LOCATION:Tri – Bridges Chess Club\, 666 Exton Commons\, Exton\, PA\, 19341\, United States
CATEGORIES:Club,Event
ORGANIZER;CN="Tri-Bridges Chess Club":MAILTO:joshuamiltonanderson@gmail.com
END:VEVENT
END:VCALENDAR