BEGIN:VCALENDAR
VERSION:2.0
PRODID:-//Tri Bridges - ECPv6.15.20//NONSGML v1.0//EN
CALSCALE:GREGORIAN
METHOD:PUBLISH
X-WR-CALNAME:Tri Bridges
X-ORIGINAL-URL:https://tribridgeschessclub.com
X-WR-CALDESC:Events for Tri Bridges
REFRESH-INTERVAL;VALUE=DURATION:PT1H
X-Robots-Tag:noindex
X-PUBLISHED-TTL:PT1H
BEGIN:VTIMEZONE
TZID:UTC
BEGIN:STANDARD
TZOFFSETFROM:+0000
TZOFFSETTO:+0000
TZNAME:UTC
DTSTART:20250101T000000
END:STANDARD
END:VTIMEZONE
BEGIN:VEVENT
DTSTART;TZID=UTC:20260317T183000
DTEND;TZID=UTC:20260317T203000
DTSTAMP:20260419T161850
CREATED:20250717T155503Z
LAST-MODIFIED:20260311T234055Z
UID:6663-1773772200-1773779400@tribridgeschessclub.com
SUMMARY:Club
DESCRIPTION:The chess club meets from 6:30 to 8:30 PM.  This is unrated free play for all levels\, and anyone is welcome.  If you have any questions\, please call/text (484) 948 – 5692. \nWith states having passed\, we are back to just our Tuesday night club\, so please come and join us for free play\, etc.
URL:https://tribridgeschessclub.com/event/club-7/
LOCATION:Tri – Bridges Chess Club\, 666 Exton Commons\, Exton\, PA\, 19341\, United States
CATEGORIES:Club,Event
ATTACH;FMTTYPE=image/jpeg:https://tribridgeschessclub.com/wp-content/uploads/2025/09/20250906_125303-scaled.jpg
ORGANIZER;CN="Tri-Bridges Chess Club":MAILTO:joshuamiltonanderson@gmail.com
END:VEVENT
BEGIN:VEVENT
DTSTART;TZID=UTC:20260321T150000
DTEND;TZID=UTC:20260321T210000
DTSTAMP:20260419T161850
CREATED:20260317T052746Z
LAST-MODIFIED:20260319T064242Z
UID:7579-1774105200-1774126800@tribridgeschessclub.com
SUMMARY:State Championship Celebration
DESCRIPTION:We were very fortunate at the state championship to find our months of hard work rewarded with many trophies and successes.  This included a record 8 club trophies\, 6 first places.  To celebrate we will have a party with cake and lots of food.  We will also havea bughouse tournament and blitz tournament.  More info to follow. \nEven if you did not play in the state championship you undoubtedly played some of these people at some point and are welcome and encouraged to come and celebrate! \nPlease remember to bring your trophies! \nDoors open about 3\, picture is at 5 with everyone\, and bughouse tournament\, food\, birthday celebrations\, etc.\, for post 5.
URL:https://tribridgeschessclub.com/event/state-championship-celebration/
LOCATION:Tri – Bridges Chess Club\, 666 Exton Commons\, Exton\, PA\, 19341\, United States
CATEGORIES:Club,Event,Tournaments
ATTACH;FMTTYPE=image/jpeg:https://tribridgeschessclub.com/wp-content/uploads/2025/08/20250405_181749-scaled.jpg
ORGANIZER;CN="Tri-Bridges Chess Club":MAILTO:joshuamiltonanderson@gmail.com
END:VEVENT
BEGIN:VEVENT
DTSTART;TZID=UTC:20260324T183000
DTEND;TZID=UTC:20260324T203000
DTSTAMP:20260419T161850
CREATED:20250717T155338Z
LAST-MODIFIED:20260312T030438Z
UID:6661-1774377000-1774384200@tribridgeschessclub.com
SUMMARY:Club
DESCRIPTION:The chess club meets from 6:30 to 8:30 PM.  This is unrated free play for all levels\, and anyone is welcome.  If you have any questions\, please call/text (484) 948 – 5692.
URL:https://tribridgeschessclub.com/event/club-6/
LOCATION:Tri – Bridges Chess Club\, 666 Exton Commons\, Exton\, PA\, 19341\, United States
CATEGORIES:Club,Event
ATTACH;FMTTYPE=image/jpeg:https://tribridgeschessclub.com/wp-content/uploads/2025/09/May-Best-Player-Win.jpg
ORGANIZER;CN="Tri-Bridges Chess Club":MAILTO:joshuamiltonanderson@gmail.com
END:VEVENT
BEGIN:VEVENT
DTSTART;TZID=UTC:20260331T183000
DTEND;TZID=UTC:20260331T203000
DTSTAMP:20260419T161850
CREATED:20250722T010749Z
LAST-MODIFIED:20260312T030720Z
UID:6723-1774981800-1774989000@tribridgeschessclub.com
SUMMARY:Club
DESCRIPTION:The chess club meets from 6:30 to 8:30 PM.  This is unrated free play for all levels\, and anyone is welcome.  If you have any questions\, please call/text (484) 948 – 5692.
URL:https://tribridgeschessclub.com/event/club-16/
LOCATION:Tri – Bridges Chess Club\, 666 Exton Commons\, Exton\, PA\, 19341\, United States
CATEGORIES:Club,Event
ORGANIZER;CN="Tri-Bridges Chess Club":MAILTO:joshuamiltonanderson@gmail.com
END:VEVENT
END:VCALENDAR